BEGIN:VCALENDAR
VERSION:2.0
PRODID:-//Tukios.com/
BEGIN:VEVENT
UID:12879516-0e05-4831-a3ad-68af2db4a82a@www.rouppfuneralhome.com
DTSTAMP:20260421T004326Z
DTSTART:20260427T150000Z
DTEND:20260427T160000Z
SUMMARY:Memorial Service
DESCRIPTION:
URL:https://www.rouppfuneralhome.com/obituaries/lorene-sholter
LOCATION:Mifflinburg Church of New Life 8700 Buffalo Rd  Mifflinburg PA 
	17844
GEO:40.9751885;-77.0476763
END:VEVENT
END:VCALENDAR